    BEGIN:VCALENDAR
VERSION:2.0
PRODID:-//NUMOA - Northern Utah Mustang Owners Association - ECPv6.15.20//NONSGML v1.0//EN
CALSCALE:GREGORIAN
METHOD:PUBLISH
X-WR-CALNAME:NUMOA - Northern Utah Mustang Owners Association
X-ORIGINAL-URL:https://numoa.com
X-WR-CALDESC:Events for NUMOA - Northern Utah Mustang Owners Association
REFRESH-INTERVAL;VALUE=DURATION:PT1H
X-Robots-Tag:noindex
X-PUBLISHED-TTL:PT1H
BEGIN:VTIMEZONE
TZID:America/Denver
BEGIN:DAYLIGHT
TZOFFSETFROM:-0700
TZOFFSETTO:-0600
TZNAME:MDT
DTSTART:20240310T090000
END:DAYLIGHT
BEGIN:STANDARD
TZOFFSETFROM:-0600
TZOFFSETTO:-0700
TZNAME:MST
DTSTART:20241103T080000
END:STANDARD
BEGIN:DAYLIGHT
TZOFFSETFROM:-0700
TZOFFSETTO:-0600
TZNAME:MDT
DTSTART:20250309T090000
END:DAYLIGHT
BEGIN:STANDARD
TZOFFSETFROM:-0600
TZOFFSETTO:-0700
TZNAME:MST
DTSTART:20251102T080000
END:STANDARD
BEGIN:DAYLIGHT
TZOFFSETFROM:-0700
TZOFFSETTO:-0600
TZNAME:MDT
DTSTART:20260308T090000
END:DAYLIGHT
BEGIN:STANDARD
TZOFFSETFROM:-0600
TZOFFSETTO:-0700
TZNAME:MST
DTSTART:20261101T080000
END:STANDARD
END:VTIMEZONE
BEGIN:VEVENT
DTSTART;TZID=America/Denver:20251205T180000
DTEND;TZID=America/Denver:20251205T200000
DTSTAMP:20260424T202328
CREATED:20250121T162131Z
LAST-MODIFIED:20250908T151118Z
UID:5834-1764957600-1764964800@numoa.com
SUMMARY:NUMOA Christmas Party
DESCRIPTION:More details to come.
URL:https://numoa.com/event/numoa-christmas-party-2/
LOCATION:CR Hamilton Indoor Pavilion\, 3700 W 13800 S\, Riverton\, Utah\, 84065
CATEGORIES:Activity
END:VEVENT
END:VCALENDAR