    BEGIN:VCALENDAR
VERSION:2.0
PRODID:-//NUMOA - Northern Utah Mustang Owners Association - ECPv6.15.20//NONSGML v1.0//EN
CALSCALE:GREGORIAN
METHOD:PUBLISH
X-WR-CALNAME:NUMOA - Northern Utah Mustang Owners Association
X-ORIGINAL-URL:https://numoa.com
X-WR-CALDESC:Events for NUMOA - Northern Utah Mustang Owners Association
REFRESH-INTERVAL;VALUE=DURATION:PT1H
X-Robots-Tag:noindex
X-PUBLISHED-TTL:PT1H
BEGIN:VTIMEZONE
TZID:America/Denver
BEGIN:DAYLIGHT
TZOFFSETFROM:-0700
TZOFFSETTO:-0600
TZNAME:MDT
DTSTART:20250309T090000
END:DAYLIGHT
BEGIN:STANDARD
TZOFFSETFROM:-0600
TZOFFSETTO:-0700
TZNAME:MST
DTSTART:20251102T080000
END:STANDARD
BEGIN:DAYLIGHT
TZOFFSETFROM:-0700
TZOFFSETTO:-0600
TZNAME:MDT
DTSTART:20260308T090000
END:DAYLIGHT
BEGIN:STANDARD
TZOFFSETFROM:-0600
TZOFFSETTO:-0700
TZNAME:MST
DTSTART:20261101T080000
END:STANDARD
BEGIN:DAYLIGHT
TZOFFSETFROM:-0700
TZOFFSETTO:-0600
TZNAME:MDT
DTSTART:20270314T090000
END:DAYLIGHT
BEGIN:STANDARD
TZOFFSETFROM:-0600
TZOFFSETTO:-0700
TZNAME:MST
DTSTART:20271107T080000
END:STANDARD
END:VTIMEZONE
BEGIN:VEVENT
DTSTART;TZID=America/Denver:20260310T180000
DTEND;TZID=America/Denver:20260310T200000
DTSTAMP:20260424T084429
CREATED:20260304T162527Z
LAST-MODIFIED:20260304T163523Z
UID:6789-1773165600-1773172800@numoa.com
SUMMARY:Monthly Club Meeting - March 2026
DESCRIPTION:
URL:https://numoa.com/event/monthly-club-meeting-march-2026/
LOCATION:Performance Ford – Woods Cross\, 1839 W 2425 S\, Woods Crossw\, UT\, 84087\, United States
CATEGORIES:Monthly Meeting
END:VEVENT
BEGIN:VEVENT
DTSTART;VALUE=DATE:20260327
DTEND;VALUE=DATE:20260330
DTSTAMP:20260424T084429
CREATED:20260304T164326Z
LAST-MODIFIED:20260304T164427Z
UID:6797-1774569600-1774828799@numoa.com
SUMMARY:Autorama - 2026
DESCRIPTION:Not an official club event\, but many club members do enter their Mustangs in the show. \nMore info – https://autorama.com/attend/salt-lake-city/ \n 
URL:https://numoa.com/event/autorama-2026/
LOCATION:Utah
CATEGORIES:Car Shows
END:VEVENT
END:VCALENDAR