    BEGIN:VCALENDAR
VERSION:2.0
PRODID:-//NUMOA - Northern Utah Mustang Owners Association - ECPv6.15.20//NONSGML v1.0//EN
CALSCALE:GREGORIAN
METHOD:PUBLISH
X-WR-CALNAME:NUMOA - Northern Utah Mustang Owners Association
X-ORIGINAL-URL:https://numoa.com
X-WR-CALDESC:Events for NUMOA - Northern Utah Mustang Owners Association
REFRESH-INTERVAL;VALUE=DURATION:PT1H
X-Robots-Tag:noindex
X-PUBLISHED-TTL:PT1H
BEGIN:VTIMEZONE
TZID:America/Denver
BEGIN:DAYLIGHT
TZOFFSETFROM:-0700
TZOFFSETTO:-0600
TZNAME:MDT
DTSTART:20250309T090000
END:DAYLIGHT
BEGIN:STANDARD
TZOFFSETFROM:-0600
TZOFFSETTO:-0700
TZNAME:MST
DTSTART:20251102T080000
END:STANDARD
BEGIN:DAYLIGHT
TZOFFSETFROM:-0700
TZOFFSETTO:-0600
TZNAME:MDT
DTSTART:20260308T090000
END:DAYLIGHT
BEGIN:STANDARD
TZOFFSETFROM:-0600
TZOFFSETTO:-0700
TZNAME:MST
DTSTART:20261101T080000
END:STANDARD
BEGIN:DAYLIGHT
TZOFFSETFROM:-0700
TZOFFSETTO:-0600
TZNAME:MDT
DTSTART:20270314T090000
END:DAYLIGHT
BEGIN:STANDARD
TZOFFSETFROM:-0600
TZOFFSETTO:-0700
TZNAME:MST
DTSTART:20271107T080000
END:STANDARD
END:VTIMEZONE
BEGIN:VEVENT
DTSTART;TZID=America/Denver:20260502T100000
DTEND;TZID=America/Denver:20260502T160000
DTSTAMP:20260424T084431
CREATED:20260318T212418Z
LAST-MODIFIED:20260318T212418Z
UID:6836-1777716000-1777737600@numoa.com
SUMMARY:2026 NUMOA Spring Break Out
DESCRIPTION:Watch Here for Details \nAll vehicles are welcome!
URL:https://numoa.com/event/2026-numoa-spring-break-out/
LOCATION:Performance Ford – Bountiful\, 1800 South Main St.\, Bountiful\, Utah\, 84010
CATEGORIES:Car Shows
END:VEVENT
END:VCALENDAR